{
 "currentVersion": 11.3,
 "serviceDescription": "태양광시뮬레이션_3월",
 "name": "태양광시뮬레이션_3월",
 "description": "",
 "extent": {
  "xmin": 299372.8405000003,
  "ymin": 4145373.2533999993,
  "xmax": 299727.8405000003,
  "ymax": 4146039.4533999995,
  "spatialReference": {
   "wkid": 32652,
   "latestWkid": 32652
  }
 },
 "initialExtent": {
  "xmin": 299372.8405000003,
  "ymin": 4145373.2533999993,
  "xmax": 299727.8405000003,
  "ymax": 4146039.4533999995,
  "spatialReference": {
   "wkid": 32652,
   "latestWkid": 32652
  }
 },
 "fullExtent": {
  "xmin": 299372.8405000003,
  "ymin": 4145373.2533999993,
  "xmax": 299727.8405000003,
  "ymax": 4146039.4533999995,
  "spatialReference": {
   "wkid": 32652,
   "latestWkid": 32652
  }
 },
 "sortableFields": "",
 "bandCount": 1,
 "pixelType": "F32",
 "minValues": [
  0.023006733506917953
 ],
 "maxValues": [
  3374.978515625
 ],
 "meanValues": [
  2270.9965577184844
 ],
 "stdvValues": [
  623.5040922278101
 ],
 "hasMultidimensions": false,
 "pixelSizeX": 0.2,
 "pixelSizeY": 0.2000000000000559,
 "meanPixelSize": 0.20000000000002796,
 "datasetFormat": "FGDBR",
 "uncompressedSize": 23650100,
 "blockWidth": 128,
 "blockHeight": 128,
 "compressionType": "NONE",
 "bandNames": [
  "Band_1"
 ],
 "allowCopy": true,
 "allowAnalysis": true,
 "itemAccess": false,
 "inspectionCapabilities": "",
 "minPixelSize": 0,
 "maxPixelSize": 0,
 "copyrightText": "",
 "serviceDataType": "esriImageServiceDataTypeGeneric",
 "serviceSourceType": "esriImageServiceSourceTypeDataset",
 "objectIdField": "",
 "fields": [],
 "capabilities": "Image,Metadata,Mensuration",
 "defaultMosaicMethod": "Center",
 "allowedMosaicMethods": "",
 "sortField": "",
 "sortValue": null,
 "sortAscending": true,
 "mosaicOperator": "First",
 "defaultCompressionQuality": 75,
 "defaultResamplingMethod": "Bilinear",
 "maxImageHeight": 4100,
 "maxImageWidth": 15000,
 "allowRasterFunction": true,
 "rasterFunctionInfos": [
  {
   "name": "None",
   "description": "",
   "help": ""
  }
 ],
 "rasterTypeInfos": [
  {
   "name": "Raster Dataset",
   "description": "Supports all ArcGIS Raster Datasets",
   "help": ""
  }
 ],
 "mensurationCapabilities": "Basic",
 "hasHistograms": true,
 "hasColormap": false,
 "hasRasterAttributeTable": false,
 "minScale": 0,
 "maxScale": 0,
 "exportTilesAllowed": false,
 "supportsStatistics": false,
 "supportsAdvancedQueries": false,
 "editFieldsInfo": null,
 "ownershipBasedAccessControlForRasters": null,
 "allowComputeTiePoints": false,
 "useStandardizedQueries": true,
 "advancedQueryCapabilities": {
  "useStandardizedQueries": true,
  "supportsStatistics": false,
  "supportsOrderBy": false,
  "supportsDistinct": false,
  "supportsPagination": false
 },
 "spatialReference": {
  "wkid": 32652,
  "latestWkid": 32652
 }
}
