View In:
ArcGIS JavaScript
ArcGIS Online map viewer
ArcGIS Earth
Service Description: 태양광시뮬레이션_12월
Name: 태양광시뮬레이션_12월
Description:
Single Fused Map Cache: false
Extent:
XMin: 299372.8405000003
YMin: 4145373.2533999993
XMax: 299727.8405000003
YMax: 4146039.4533999995
Spatial Reference: 32652
(32652)
Initial Extent:
XMin: 299372.8405000003
YMin: 4145373.2533999993
XMax: 299727.8405000003
YMax: 4146039.4533999995
Spatial Reference: 32652
(32652)
Full Extent:
XMin: 299372.8405000003
YMin: 4145373.2533999993
XMax: 299727.8405000003
YMax: 4146039.4533999995
Spatial Reference: 32652
(32652)
Pixel Size X: 0.2
Pixel Size Y: 0.2000000000000559
Band Count: 1
Pixel Type: F32
RasterFunction Infos: {"rasterFunctionInfos": [{
"name": "None",
"description": "",
"help": ""
}]}
Mensuration Capabilities: Basic
Inspection Capabilities:
Has Histograms: true
Has Colormap: false
Has Multi Dimensions : false
Rendering Rule:
Min Scale: 0
Max Scale: 0
Copyright Text:
Service Data Type: esriImageServiceDataTypeGeneric
Min Values: 0.012592555955052376
Max Values: 1917.531982421875
Mean Values: 990.7322740069419
Standard Deviation Values: 320.0568336839044
Object ID Field:
Fields:
None
Default Mosaic Method: Center
Allowed Mosaic Methods:
SortField:
SortValue: null
Mosaic Operator: First
Default Compression Quality: 75
Default Resampling Method: Bilinear
Max Record Count: null
Max Image Height: 4100
Max Image Width: 15000
Max Download Image Count: null
Max Mosaic Image Count: null
Allow Raster Function: true
Allow Copy: true
Allow Analysis: true
Allow Compute TiePoints: false
Supports Statistics: false
Supports Advanced Queries: false
Use StandardizedQueries: true
Raster Type Infos:
Name: Raster Dataset
Description: Supports all ArcGIS Raster Datasets
Help:
Has Raster Attribute Table: false
Edit Fields Info: null
Ownership Based AccessControl For Rasters: null
Child Resources:
Info
Histograms
Statistics
Key Properties
Legend
Raster Function Infos
Supported Operations:
Export Image
Identify
Measure
Compute Histograms
Compute Statistics Histograms
Get Samples
Compute Class Statistics
Query Boundary
Compute Pixel Location
Compute Angles
Validate
Project