View In:
ArcGIS JavaScript
ArcGIS Online map viewer
ArcGIS Earth
Service Description:
Name: DTM_50cm
Description: N/A
Single Fused Map Cache: true
Tile Info:
- Height: 256
- Width: 256
- DPI: 96
-
Levels of Detail: 24
-
Level ID: 1
[ Start Tile, End Tile ]
- Resolution: 78271.5169639999
- Scale: 2.95828763795777E8
-
Level ID: 2
[ Start Tile, End Tile ]
- Resolution: 39135.7584820001
- Scale: 1.47914381897889E8
-
Level ID: 3
[ Start Tile, End Tile ]
- Resolution: 19567.8792409999
- Scale: 7.3957190948944E7
-
Level ID: 4
[ Start Tile, End Tile ]
- Resolution: 9783.93962049996
- Scale: 3.6978595474472E7
-
Level ID: 5
[ Start Tile, End Tile ]
- Resolution: 4891.96981024998
- Scale: 1.8489297737236E7
- Format: LERC
- Compression Quality: 0.0
- LERC Error: 0.0
- Origin: X: -2.0037508342787E7
Y: 2.0037508342787E7
- Spatial Reference: 102100
(3857)
Storage Info:
- Storage Format: esriMapCacheStorageModeCompactV2
- Packet Size: 128
Extent:
XMin: 1.406481303285141E7
YMin: 4486173.357653983
XMax: 1.4116974530557742E7
YMax: 4529828.8473090585
Spatial Reference: 102100
(3857)
Initial Extent:
XMin: 1.406481303285141E7
YMin: 4486173.357653983
XMax: 1.4116974530557742E7
YMax: 4529828.8473090585
Spatial Reference: 102100
(3857)
Full Extent:
XMin: 1.406481303285141E7
YMin: 4486173.357653983
XMax: 1.4116974530557742E7
YMax: 4529828.8473090585
Spatial Reference: 102100
(3857)
Pixel Size X: 0.01866138385297604
Pixel Size Y: 0.01866138385297604
Band Count: 1
Pixel Type:
RasterFunction Infos: {"rasterFunctionInfos": null}
Mensuration Capabilities:
Inspection Capabilities:
Has Histograms: false
Has Colormap: false
Has Multi Dimensions : false
Rendering Rule:
Min Scale: 1155581.108577
Max Scale: 1128.497176
Min LOD: 9
Max LOD: 19
Resampling: true
Copyright Text: N/A
Service Data Type: esriImageServiceDataTypeElevation
Min Values: N/A
Max Values: N/A
Mean Values: N/A
Standard Deviation Values: N/A
Object ID Field: N/A
Fields:
None
Default Mosaic Method: N/A
Allowed Mosaic Methods: N/A
SortField: N/A
SortValue: N/A
Mosaic Operator: N/A
Default Compression Quality: null
Default Resampling Method: N/A
Max Record Count: null
Max Image Height: null
Max Image Width: null
Max Download Image Count: null
Max Mosaic Image Count: null
Allow Raster Function: null
Allow Copy: null
Allow Analysis: null
Allow Compute TiePoints: false
Supports Statistics: false
Supports Advanced Queries: false
Use StandardizedQueries: false
Raster Type Infos:
None
Has Raster Attribute Table: null
Edit Fields Info: N/A
Ownership Based AccessControl For Rasters: N/A
Child Resources:
Info