View In:
ArcGIS JavaScript
ArcGIS Online map viewer
ArcGIS Earth
Service Description: ICSG19/BupyeongImage
Name: ICSG19/BupyeongImage
Description:
Single Fused Map Cache: false
Extent:
XMin: 1.3899309914123906E7
YMin: 3952259.0486716116
XMax: 1.3900204690122506E7
YMax: 3952945.5897937114
Spatial Reference: 102100
(3857)
Initial Extent:
XMin: 1.3899309914123906E7
YMin: 3952259.0486716116
XMax: 1.3900204690122506E7
YMax: 3952945.5897937114
Spatial Reference: 102100
(3857)
Full Extent:
XMin: 1.3899309914123906E7
YMin: 3952259.0486716116
XMax: 1.3900204690122506E7
YMax: 3952945.5897937114
Spatial Reference: 102100
(3857)
Pixel Size X: 0.03251129999999373
Pixel Size Y: 0.032511299999992915
Band Count: 4
Pixel Type: U8
RasterFunction Infos: {"rasterFunctionInfos": [{
"name": "None",
"description": "",
"help": ""
}]}
Mensuration Capabilities: Basic
Inspection Capabilities:
Has Histograms: true
Has Colormap: false
Has Multi Dimensions : false
Rendering Rule:
Min Scale: 0
Max Scale: 0
Resampling: false
Copyright Text:
Service Data Type: esriImageServiceDataTypeGeneric
Min Values: 0, 0, 0, 0
Max Values: 255, 255, 255, 255
Mean Values: 100.88533025539, 106.58856273316, 100.77533459862, 201.09844565684
Standard Deviation Values: 83.088006857628, 80.496759271281, 82.245346267916, 104.11300982852
Object ID Field:
Fields:
None
Default Mosaic Method: Center
Allowed Mosaic Methods:
SortField:
SortValue: null
Mosaic Operator: First
Default Compression Quality: 75
Default Resampling Method: Bilinear
Max Record Count: null
Max Image Height: 4100
Max Image Width: 15000
Max Download Image Count: null
Max Mosaic Image Count: null
Allow Raster Function: true
Allow Copy: true
Allow Analysis: true
Allow Compute TiePoints: false
Supports Statistics: false
Supports Advanced Queries: false
Use StandardizedQueries: true
Raster Type Infos:
Name: Raster Dataset
Description: Supports all ArcGIS Raster Datasets
Help:
Has Raster Attribute Table: false
Edit Fields Info: null
Ownership Based AccessControl For Rasters: null
Child Resources:
Info
Histograms
Statistics
Key Properties
Legend
Raster Function Infos
Supported Operations:
Export Image
Identify
Measure
Compute Histograms
Compute Statistics Histograms
Get Samples
Compute Class Statistics
Query Boundary
Compute Pixel Location
Compute Angles
Validate
Project